Package: InteractiveComplexHeatmap Version: 1.18.0 Command: /home/biocbuild/bbs-3.22-bioc/R/bin/R CMD check --install=check:InteractiveComplexHeatmap.install-out.txt --library=/home/biocbuild/bbs-3.22-bioc/R/site-library --timings InteractiveComplexHeatmap_1.18.0.tar.gz StartedAt: 2025-11-18 05:13:39 -0500 (Tue, 18 Nov 2025) EndedAt: 2025-11-18 05:15:54 -0500 (Tue, 18 Nov 2025) EllapsedTime: 135.1 seconds RetCode: 0 Status: OK CheckDir: InteractiveComplexHeatmap.Rcheck Warnings: 0