Package: IntEREst Version: 1.34.0 Command: /home/biocbuild/bbs-3.22-bioc/R/bin/R CMD INSTALL IntEREst StartedAt: 2025-11-09 15:57:58 -0500 (Sun, 09 Nov 2025) EndedAt: 2025-11-09 15:58:58 -0500 (Sun, 09 Nov 2025) EllapsedTime: 59.8 seconds RetCode: 0 Status: OK