Package: IntEREst Version: 1.34.0 Command: /home/biocbuild/bbs-3.22-bioc/R/bin/R CMD build --keep-empty-dirs --no-resave-data --md5 IntEREst StartedAt: 2025-11-09 18:20:41 -0500 (Sun, 09 Nov 2025) EndedAt: 2025-11-09 18:22:11 -0500 (Sun, 09 Nov 2025) EllapsedTime: 90.1 seconds RetCode: 0 Status: OK PackageFile: IntEREst_1.34.0.tar.gz PackageFileSize: 1.424 MiB