Package: IntEREst Version: 1.34.0 Command: /Library/Frameworks/R.framework/Resources/bin/R CMD INSTALL IntEREst StartedAt: 2025-11-03 15:51:57 -0500 (Mon, 03 Nov 2025) EndedAt: 2025-11-03 15:53:10 -0500 (Mon, 03 Nov 2025) EllapsedTime: 72.5 seconds RetCode: 0 Status: OK