Package: IntEREst Version: 1.34.0 Command: /Library/Frameworks/R.framework/Resources/bin/R CMD build --keep-empty-dirs --no-resave-data IntEREst StartedAt: 2025-11-03 17:28:38 -0500 (Mon, 03 Nov 2025) EndedAt: 2025-11-03 17:30:48 -0500 (Mon, 03 Nov 2025) EllapsedTime: 130.0 seconds RetCode: 0 Status: OK PackageFile: IntEREst_1.34.0.tar.gz PackageFileSize: 1.437 MiB