Package: IntEREst Version: 1.34.0 Command: /Library/Frameworks/R.framework/Resources/bin/R CMD check --install=check:IntEREst.install-out.txt --library=/Library/Frameworks/R.framework/Resources/library --no-vignettes --timings IntEREst_1.34.0.tar.gz StartedAt: 2025-11-09 20:23:45 -0500 (Sun, 09 Nov 2025) EndedAt: 2025-11-09 20:26:09 -0500 (Sun, 09 Nov 2025) EllapsedTime: 144.6 seconds RetCode: 0 Status: OK CheckDir: IntEREst.Rcheck Warnings: 0