Package: IdeoViz Version: 1.44.0 Command: /Library/Frameworks/R.framework/Resources/bin/R CMD build --keep-empty-dirs --no-resave-data IdeoViz StartedAt: 2025-10-13 19:50:13 -0400 (Mon, 13 Oct 2025) EndedAt: 2025-10-13 19:50:15 -0400 (Mon, 13 Oct 2025) EllapsedTime: 2.1 seconds RetCode: 0 Status: OK PackageFile: IdeoViz_1.44.0.tar.gz PackageFileSize: 411.8 KiB