Package: IdeoViz Version: 1.44.0 Command: /Library/Frameworks/R.framework/Resources/bin/R CMD INSTALL IdeoViz StartedAt: 2025-10-13 16:51:45 -0400 (Mon, 13 Oct 2025) EndedAt: 2025-10-13 16:52:20 -0400 (Mon, 13 Oct 2025) EllapsedTime: 34.5 seconds RetCode: 0 Status: OK