Package: Icens Version: 1.80.0 Command: /Library/Frameworks/R.framework/Resources/bin/R CMD INSTALL Icens StartedAt: 2025-10-02 15:19:05 -0400 (Thu, 02 Oct 2025) EndedAt: 2025-10-02 15:19:21 -0400 (Thu, 02 Oct 2025) EllapsedTime: 16.0 seconds RetCode: 0 Status: OK