Package: Icens Version: 1.80.0 Command: /Library/Frameworks/R.framework/Resources/bin/R CMD build --keep-empty-dirs --no-resave-data Icens StartedAt: 2025-09-29 19:49:03 -0400 (Mon, 29 Sep 2025) EndedAt: 2025-09-29 19:49:05 -0400 (Mon, 29 Sep 2025) EllapsedTime: 2.3 seconds RetCode: 0 Status: OK PackageFile: Icens_1.80.0.tar.gz PackageFileSize: 20.83 KiB