Package: Icens Version: 1.80.0 Command: rm -rf Icens.buildbin-libdir && mkdir Icens.buildbin-libdir && /Users/biocbuild/BBS/utils/build-universal.sh Icens_1.80.0.tar.gz /Library/Frameworks/R.framework/Resources/bin/R Icens.buildbin-libdir StartedAt: 2025-04-21 22:38:38 -0400 (Mon, 21 Apr 2025) EndedAt: 2025-04-21 22:38:41 -0400 (Mon, 21 Apr 2025) EllapsedTime: 3.1 seconds RetCode: 0 Status: OK PackageFile: Icens_1.80.0.tgz PackageFileSize: 110.7 KiB