Package: Icens Version: 1.80.0 Command: /Library/Frameworks/R.framework/Resources/bin/R CMD build --keep-empty-dirs --no-resave-data Icens StartedAt: 2025-09-30 02:32:59 -0400 (Tue, 30 Sep 2025) EndedAt: 2025-09-30 02:33:00 -0400 (Tue, 30 Sep 2025) EllapsedTime: 1.2 seconds RetCode: 0 Status: OK PackageFile: Icens_1.80.0.tar.gz PackageFileSize: 20.84 KiB