Package: Icens Version: 1.80.0 Command: rm -rf Icens.buildbin-libdir && mkdir Icens.buildbin-libdir && /Users/biocbuild/BBS/utils/build-universal.sh Icens_1.80.0.tar.gz /Library/Frameworks/R.framework/Resources/bin/R Icens.buildbin-libdir StartedAt: 2025-10-01 18:51:56 -0400 (Wed, 01 Oct 2025) EndedAt: 2025-10-01 18:52:04 -0400 (Wed, 01 Oct 2025) EllapsedTime: 7.8 seconds RetCode: 0 Status: OK PackageFile: Icens_1.80.0.tgz PackageFileSize: 110.2 KiB