Package: Ibex Version: 1.0.0 Command: /home/biocbuild/bbs-3.22-bioc/R/bin/R CMD check --install=check:Ibex.install-out.txt --library=/home/biocbuild/bbs-3.22-bioc/R/site-library --timings Ibex_1.0.0.tar.gz StartedAt: 2025-11-10 00:45:17 -0500 (Mon, 10 Nov 2025) EndedAt: 2025-11-10 00:57:09 -0500 (Mon, 10 Nov 2025) EllapsedTime: 712.7 seconds RetCode: 0 Status: OK CheckDir: Ibex.Rcheck Warnings: 0