Package: Ibex Version: 1.0.0 Command: /Library/Frameworks/R.framework/Resources/bin/R CMD INSTALL Ibex StartedAt: 2025-11-06 15:15:05 -0500 (Thu, 06 Nov 2025) EndedAt: 2025-11-06 15:15:18 -0500 (Thu, 06 Nov 2025) EllapsedTime: 12.8 seconds RetCode: 0 Status: OK