Package: Ibex Version: 1.0.0 Command: /Library/Frameworks/R.framework/Resources/bin/R CMD check --install=check:Ibex.install-out.txt --library=/Library/Frameworks/R.framework/Resources/library --no-vignettes --timings Ibex_1.0.0.tar.gz StartedAt: 2025-11-09 20:18:56 -0500 (Sun, 09 Nov 2025) EndedAt: 2025-11-09 20:24:35 -0500 (Sun, 09 Nov 2025) EllapsedTime: 339.1 seconds RetCode: 0 Status: OK CheckDir: Ibex.Rcheck Warnings: 0