Package: Ibex Version: 1.0.0 Command: /Library/Frameworks/R.framework/Resources/bin/R CMD build --keep-empty-dirs --no-resave-data Ibex StartedAt: 2025-11-06 16:43:28 -0500 (Thu, 06 Nov 2025) EndedAt: 2025-11-06 16:44:40 -0500 (Thu, 06 Nov 2025) EllapsedTime: 71.8 seconds RetCode: 0 Status: OK PackageFile: Ibex_1.0.0.tar.gz PackageFileSize: 4.062 MiB