Package: Ibex Version: 1.0.0 Command: rm -rf Ibex.buildbin-libdir && mkdir Ibex.buildbin-libdir && /Users/biocbuild/BBS/utils/build-universal.sh Ibex_1.0.0.tar.gz /Library/Frameworks/R.framework/Resources/bin/R Ibex.buildbin-libdir StartedAt: 2025-11-06 23:08:25 -0500 (Thu, 06 Nov 2025) EndedAt: 2025-11-06 23:08:40 -0500 (Thu, 06 Nov 2025) EllapsedTime: 14.4 seconds RetCode: 0 Status: OK PackageFile: Ibex_1.0.0.tgz PackageFileSize: 1.225 MiB