Package: IWTomics Version: 1.32.0 Command: rm -rf IWTomics.buildbin-libdir && mkdir IWTomics.buildbin-libdir && /Users/biocbuild/BBS/utils/build-universal.sh IWTomics_1.32.0.tar.gz /Library/Frameworks/R.framework/Resources/bin/R IWTomics.buildbin-libdir StartedAt: 2025-10-14 13:50:23 -0400 (Tue, 14 Oct 2025) EndedAt: 2025-10-14 13:51:24 -0400 (Tue, 14 Oct 2025) EllapsedTime: 61.0 seconds RetCode: 0 Status: OK PackageFile: IWTomics_1.32.0.tgz PackageFileSize: 1.777 MiB