Package: IVAS Version: 2.28.0 Command: E:\biocbuild\bbs-3.21-bioc\R\bin\R.exe CMD check --no-multiarch --install=check:IVAS.install-out.txt --library=E:\biocbuild\bbs-3.21-bioc\R\library --no-vignettes --timings IVAS_2.28.0.tar.gz StartedAt: 2025-08-15 03:28:46 -0400 (Fri, 15 Aug 2025) EndedAt: 2025-08-15 03:34:57 -0400 (Fri, 15 Aug 2025) EllapsedTime: 370.9 seconds RetCode: 0 Status: WARNINGS CheckDir: IVAS.Rcheck Warnings: 1