Package: IVAS Version: 2.28.0 Command: /Library/Frameworks/R.framework/Resources/bin/R CMD check --install=check:IVAS.install-out.txt --library=/Library/Frameworks/R.framework/Resources/library --no-vignettes --timings IVAS_2.28.0.tar.gz StartedAt: 2025-09-26 05:26:55 -0400 (Fri, 26 Sep 2025) EndedAt: 2025-09-26 05:37:52 -0400 (Fri, 26 Sep 2025) EllapsedTime: 656.9 seconds RetCode: 0 Status: WARNINGS CheckDir: IVAS.Rcheck Warnings: 1