Package: IVAS Version: 2.28.0 Command: rm -rf IVAS.buildbin-libdir && mkdir IVAS.buildbin-libdir && /Users/biocbuild/BBS/utils/build-universal.sh IVAS_2.28.0.tar.gz /Library/Frameworks/R.framework/Resources/bin/R IVAS.buildbin-libdir StartedAt: 2025-09-26 14:43:02 -0400 (Fri, 26 Sep 2025) EndedAt: 2025-09-26 14:45:10 -0400 (Fri, 26 Sep 2025) EllapsedTime: 128.0 seconds RetCode: 0 Status: OK PackageFile: IVAS_2.28.0.tgz PackageFileSize: 681.9 KiB