Package: IVAS Version: 2.28.0 Command: /Library/Frameworks/R.framework/Resources/bin/R CMD check --install=check:IVAS.install-out.txt --library=/Library/Frameworks/R.framework/Resources/library --no-vignettes --timings IVAS_2.28.0.tar.gz StartedAt: 2025-09-27 00:57:18 -0400 (Sat, 27 Sep 2025) EndedAt: 2025-09-27 01:03:09 -0400 (Sat, 27 Sep 2025) EllapsedTime: 351.2 seconds RetCode: 0 Status: WARNINGS CheckDir: IVAS.Rcheck Warnings: 1