Package: ISAnalytics Version: 1.20.0 Command: /Library/Frameworks/R.framework/Resources/bin/R CMD check --install=check:ISAnalytics.install-out.txt --library=/Library/Frameworks/R.framework/Resources/library --no-vignettes --timings ISAnalytics_1.20.0.tar.gz StartedAt: 2025-11-03 20:21:51 -0500 (Mon, 03 Nov 2025) EndedAt: 2025-11-03 20:25:24 -0500 (Mon, 03 Nov 2025) EllapsedTime: 213.7 seconds RetCode: 0 Status: OK CheckDir: ISAnalytics.Rcheck Warnings: 0