Package: ISAnalytics Version: 1.20.0 Command: rm -rf ISAnalytics.buildbin-libdir && mkdir ISAnalytics.buildbin-libdir && /Users/biocbuild/BBS/utils/build-universal.sh ISAnalytics_1.20.0.tar.gz /Library/Frameworks/R.framework/Resources/bin/R ISAnalytics.buildbin-libdir StartedAt: 2025-11-02 23:08:55 -0500 (Sun, 02 Nov 2025) EndedAt: 2025-11-02 23:09:06 -0500 (Sun, 02 Nov 2025) EllapsedTime: 10.2 seconds RetCode: 0 Status: OK PackageFile: ISAnalytics_1.20.0.tgz PackageFileSize: 9.66 MiB