Package: IPO Version: 1.34.0 Command: /home/biocbuild/R/R/bin/R CMD build --keep-empty-dirs --no-resave-data IPO StartedAt: 2025-09-30 02:32:58 -0000 (Tue, 30 Sep 2025) EndedAt: 2025-09-30 02:56:29 -0000 (Tue, 30 Sep 2025) EllapsedTime: 1411.5 seconds RetCode: 0 Status: OK PackageFile: IPO_1.34.0.tar.gz PackageFileSize: 755.1 KiB