Package: IMPCdata Version: 1.45.0 Command: F:\biocbuild\bbs-3.22-bioc\R\bin\R.exe CMD check --no-multiarch --install=check:IMPCdata.install-out.txt --library=F:\biocbuild\bbs-3.22-bioc\R\library --no-vignettes --timings IMPCdata_1.45.0.tar.gz StartedAt: 2025-08-15 04:18:55 -0400 (Fri, 15 Aug 2025) EndedAt: 2025-08-15 04:20:08 -0400 (Fri, 15 Aug 2025) EllapsedTime: 73.2 seconds RetCode: 0 Status: OK CheckDir: IMPCdata.Rcheck Warnings: 0