Package: IMPCdata Version: 1.46.0 Command: /home/biocbuild/bbs-3.22-bioc/R/bin/R CMD check --install=check:IMPCdata.install-out.txt --library=/home/biocbuild/bbs-3.22-bioc/R/site-library --timings IMPCdata_1.46.0.tar.gz StartedAt: 2025-11-10 00:49:53 -0500 (Mon, 10 Nov 2025) EndedAt: 2025-11-10 00:52:02 -0500 (Mon, 10 Nov 2025) EllapsedTime: 129.1 seconds RetCode: 0 Status: OK CheckDir: IMPCdata.Rcheck Warnings: 0