Package: IMMAN Version: 1.30.0 Command: /home/biocbuild/bbs-3.22-bioc/R/bin/R CMD INSTALL IMMAN StartedAt: 2025-11-09 15:53:14 -0500 (Sun, 09 Nov 2025) EndedAt: 2025-11-09 15:53:27 -0500 (Sun, 09 Nov 2025) EllapsedTime: 12.7 seconds RetCode: 0 Status: OK