Package: IMMAN Version: 1.28.0 Command: /Library/Frameworks/R.framework/Resources/bin/R CMD check --install=check:IMMAN.install-out.txt --library=/Library/Frameworks/R.framework/Resources/library --no-vignettes --timings IMMAN_1.28.0.tar.gz StartedAt: 2025-10-14 05:19:36 -0400 (Tue, 14 Oct 2025) EndedAt: 2025-10-14 05:34:36 -0400 (Tue, 14 Oct 2025) EllapsedTime: 899.7 seconds RetCode: 0 Status: OK CheckDir: IMMAN.Rcheck Warnings: 0