Package: IMMAN Version: 1.28.0 Command: /Library/Frameworks/R.framework/Resources/bin/R CMD build --keep-empty-dirs --no-resave-data IMMAN StartedAt: 2025-10-13 19:52:14 -0400 (Mon, 13 Oct 2025) EndedAt: 2025-10-13 19:56:12 -0400 (Mon, 13 Oct 2025) EllapsedTime: 238.3 seconds RetCode: 0 Status: OK PackageFile: IMMAN_1.28.0.tar.gz PackageFileSize: 45.05 KiB