Package: ILoReg Version: 1.18.0 Command: /home/biocbuild/R/R/bin/R CMD check --install=check:ILoReg.install-out.txt --library=/home/biocbuild/R/R/site-library --no-vignettes --timings ILoReg_1.18.0.tar.gz StartedAt: 2025-09-30 10:48:03 -0000 (Tue, 30 Sep 2025) EndedAt: 2025-09-30 10:52:33 -0000 (Tue, 30 Sep 2025) EllapsedTime: 270.2 seconds RetCode: 1 Status: ERROR CheckDir: ILoReg.Rcheck Warnings: NA