Package: ILoReg Version: 1.18.0 Command: /home/biocbuild/R/R/bin/R CMD build --keep-empty-dirs --no-resave-data ILoReg StartedAt: 2025-10-14 01:46:56 -0000 (Tue, 14 Oct 2025) EndedAt: 2025-10-14 01:50:09 -0000 (Tue, 14 Oct 2025) EllapsedTime: 193.1 seconds RetCode: 1 Status: ERROR PackageFile: None PackageFileSize: NA