Package: ILoReg Version: 1.18.0 Command: /Library/Frameworks/R.framework/Resources/bin/R CMD build --keep-empty-dirs --no-resave-data ILoReg StartedAt: 2025-10-14 02:33:07 -0400 (Tue, 14 Oct 2025) EndedAt: 2025-10-14 02:36:30 -0400 (Tue, 14 Oct 2025) EllapsedTime: 203.8 seconds RetCode: 0 Status: OK PackageFile: ILoReg_1.18.0.tar.gz PackageFileSize: 2.753 MiB