Package: IHW Version: 1.36.0 Command: /Library/Frameworks/R.framework/Resources/bin/R CMD check --install=check:IHW.install-out.txt --library=/Library/Frameworks/R.framework/Resources/library --no-vignettes --timings IHW_1.36.0.tar.gz StartedAt: 2025-10-14 05:19:17 -0400 (Tue, 14 Oct 2025) EndedAt: 2025-10-14 05:21:04 -0400 (Tue, 14 Oct 2025) EllapsedTime: 106.7 seconds RetCode: 0 Status: OK CheckDir: IHW.Rcheck Warnings: 0