Package: IHW Version: 1.38.0 Command: /Library/Frameworks/R.framework/Resources/bin/R CMD INSTALL IHW StartedAt: 2025-10-29 21:28:31 -0400 (Wed, 29 Oct 2025) EndedAt: 2025-10-29 21:28:33 -0400 (Wed, 29 Oct 2025) EllapsedTime: 1.4 seconds RetCode: 0 Status: OK