Package: IHW Version: 1.38.0 Command: /Library/Frameworks/R.framework/Resources/bin/R CMD build --keep-empty-dirs --no-resave-data IHW StartedAt: 2025-10-29 23:07:10 -0400 (Wed, 29 Oct 2025) EndedAt: 2025-10-29 23:08:09 -0400 (Wed, 29 Oct 2025) EllapsedTime: 58.6 seconds RetCode: 0 Status: OK PackageFile: IHW_1.38.0.tar.gz PackageFileSize: 4.74 MiB