Package: IFAA Version: 1.12.0 Command: /home/biocbuild/bbs-3.22-bioc/R/bin/R CMD check --install=check:IFAA.install-out.txt --library=/home/biocbuild/bbs-3.22-bioc/R/site-library --timings IFAA_1.12.0.tar.gz StartedAt: 2025-11-07 00:33:33 -0500 (Fri, 07 Nov 2025) EndedAt: 2025-11-07 00:43:25 -0500 (Fri, 07 Nov 2025) EllapsedTime: 591.7 seconds RetCode: 0 Status: OK CheckDir: IFAA.Rcheck Warnings: 0