Package: IFAA Version: 1.12.0 Command: /Library/Frameworks/R.framework/Resources/bin/R CMD INSTALL IFAA StartedAt: 2025-11-03 15:36:08 -0500 (Mon, 03 Nov 2025) EndedAt: 2025-11-03 15:36:46 -0500 (Mon, 03 Nov 2025) EllapsedTime: 37.3 seconds RetCode: 0 Status: OK