Package: IFAA Version: 1.12.0 Command: /Library/Frameworks/R.framework/Resources/bin/R CMD check --install=check:IFAA.install-out.txt --library=/Library/Frameworks/R.framework/Resources/library --no-vignettes --timings IFAA_1.12.0.tar.gz StartedAt: 2025-11-03 21:56:04 -0500 (Mon, 03 Nov 2025) EndedAt: 2025-11-03 22:04:34 -0500 (Mon, 03 Nov 2025) EllapsedTime: 509.5 seconds RetCode: 0 Status: OK CheckDir: IFAA.Rcheck Warnings: 0