Package: HybridExpress Version: 1.4.0 Command: E:\biocbuild\bbs-3.21-bioc\R\bin\R.exe CMD check --no-multiarch --install=check:HybridExpress.install-out.txt --library=E:\biocbuild\bbs-3.21-bioc\R\library --no-vignettes --timings HybridExpress_1.4.0.tar.gz StartedAt: 2025-08-15 03:11:50 -0400 (Fri, 15 Aug 2025) EndedAt: 2025-08-15 03:16:50 -0400 (Fri, 15 Aug 2025) EllapsedTime: 299.8 seconds RetCode: 0 Status: OK CheckDir: HybridExpress.Rcheck Warnings: 0