Package: HybridExpress Version: 1.6.0 Command: /home/biocbuild/bbs-3.22-bioc/R/bin/R CMD check --install=check:HybridExpress.install-out.txt --library=/home/biocbuild/bbs-3.22-bioc/R/site-library --timings HybridExpress_1.6.0.tar.gz StartedAt: 2025-11-07 00:30:58 -0500 (Fri, 07 Nov 2025) EndedAt: 2025-11-07 00:35:57 -0500 (Fri, 07 Nov 2025) EllapsedTime: 299.3 seconds RetCode: 0 Status: OK CheckDir: HybridExpress.Rcheck Warnings: 0