Package: HybridExpress Version: 1.4.0 Command: /home/biocbuild/bbs-3.21-bioc/R/bin/R CMD INSTALL HybridExpress StartedAt: 2025-10-15 15:21:06 -0400 (Wed, 15 Oct 2025) EndedAt: 2025-10-15 15:21:30 -0400 (Wed, 15 Oct 2025) EllapsedTime: 24.7 seconds RetCode: 0 Status: OK