Package: HybridExpress Version: 1.6.0 Command: /Library/Frameworks/R.framework/Resources/bin/R CMD INSTALL HybridExpress StartedAt: 2025-11-03 15:27:40 -0500 (Mon, 03 Nov 2025) EndedAt: 2025-11-03 15:28:15 -0500 (Mon, 03 Nov 2025) EllapsedTime: 34.9 seconds RetCode: 0 Status: OK