Package: HybridExpress Version: 1.6.0 Command: /Library/Frameworks/R.framework/Resources/bin/R CMD check --install=check:HybridExpress.install-out.txt --library=/Library/Frameworks/R.framework/Resources/library --no-vignettes --timings HybridExpress_1.6.0.tar.gz StartedAt: 2025-11-03 21:54:29 -0500 (Mon, 03 Nov 2025) EndedAt: 2025-11-03 21:59:22 -0500 (Mon, 03 Nov 2025) EllapsedTime: 292.3 seconds RetCode: 0 Status: OK CheckDir: HybridExpress.Rcheck Warnings: 0