Package: HybridExpress Version: 1.6.0 Command: rm -rf HybridExpress.buildbin-libdir && mkdir HybridExpress.buildbin-libdir && /Users/biocbuild/BBS/utils/build-universal.sh HybridExpress_1.6.0.tar.gz /Library/Frameworks/R.framework/Resources/bin/R HybridExpress.buildbin-libdir StartedAt: 2025-11-04 01:45:11 -0500 (Tue, 04 Nov 2025) EndedAt: 2025-11-04 01:45:50 -0500 (Tue, 04 Nov 2025) EllapsedTime: 38.5 seconds RetCode: 0 Status: OK PackageFile: HybridExpress_1.6.0.tgz PackageFileSize: 3.467 MiB