Package: HybridExpress Version: 1.4.0 Command: /Library/Frameworks/R.framework/Resources/bin/R CMD INSTALL HybridExpress StartedAt: 2025-10-13 16:23:05 -0400 (Mon, 13 Oct 2025) EndedAt: 2025-10-13 16:23:36 -0400 (Mon, 13 Oct 2025) EllapsedTime: 30.9 seconds RetCode: 0 Status: OK