Package: HubPub Version: 1.18.0 Command: /home/biocbuild/R/R/bin/R CMD INSTALL HubPub StartedAt: 2025-11-20 21:59:20 -0000 (Thu, 20 Nov 2025) EndedAt: 2025-11-20 21:59:27 -0000 (Thu, 20 Nov 2025) EllapsedTime: 6.9 seconds RetCode: 0 Status: OK