Package: HubPub Version: 1.18.0 Command: /home/biocbuild/R/R/bin/R CMD build --keep-empty-dirs --no-resave-data HubPub StartedAt: 2025-11-21 03:14:29 -0000 (Fri, 21 Nov 2025) EndedAt: 2025-11-21 03:15:14 -0000 (Fri, 21 Nov 2025) EllapsedTime: 45.0 seconds RetCode: 0 Status: OK PackageFile: HubPub_1.18.0.tar.gz PackageFileSize: 640.2 KiB