Package: HubPub Version: 1.18.0 Command: /home/biocbuild/bbs-3.22-bioc/R/bin/R CMD INSTALL HubPub StartedAt: 2025-11-20 16:02:10 -0500 (Thu, 20 Nov 2025) EndedAt: 2025-11-20 16:02:14 -0500 (Thu, 20 Nov 2025) EllapsedTime: 3.5 seconds RetCode: 0 Status: OK